BEGIN:VCALENDAR
VERSION:2.0
PRODID:-//The Oregon Garden - ECPv6.15.20//NONSGML v1.0//EN
CALSCALE:GREGORIAN
METHOD:PUBLISH
X-ORIGINAL-URL:https://oregongarden.org
X-WR-CALDESC:Events for The Oregon Garden
REFRESH-INTERVAL;VALUE=DURATION:PT1H
X-Robots-Tag:noindex
X-PUBLISHED-TTL:PT1H
BEGIN:VTIMEZONE
TZID:UTC
BEGIN:STANDARD
TZOFFSETFROM:+0000
TZOFFSETTO:+0000
TZNAME:UTC
DTSTART:20240101T000000
END:STANDARD
END:VTIMEZONE
BEGIN:VEVENT
DTSTART;TZID=UTC:20250717T100000
DTEND;TZID=UTC:20250717T160000
DTSTAMP:20260421T140821
CREATED:20250204T201711Z
LAST-MODIFIED:20250529T021721Z
UID:10000112-1752746400-1752768000@oregongarden.org
SUMMARY:Art in the Garden
DESCRIPTION:Every summer\, local artists showcase their handcrafted pieces alongside the natural splendor of The Oregon Garden\, giving guests an opportunity to not only enjoy but also to purchase new pieces for their home and garden! \nThere is no additional fee for enjoying our Art in the Garden event: the art can be viewed at any time during open hours for the duration of the exhibit. \nFeatured Artists\n\nJenny Ellsworth\nMo Hurless\nRob Kraai\nJudy Kunkle\nKelly Lanspa\nMary Mosier\nDaryle Ryder\nHeather Skinner\nSusan Wheeler
URL:https://oregongarden.org/event/art-in-the-garden-2025/2025-07-17/
LOCATION:Oregon Garden\, 879 W. Main St.\, Silverton\, OR\, 97381\, United States
ATTACH;FMTTYPE=image/png:https://oregongarden.org/wp-content/uploads/2019/07/og-cover-art.png
END:VEVENT
BEGIN:VEVENT
DTSTART;TZID=UTC:20250717T173000
DTEND;TZID=UTC:20250717T200000
DTSTAMP:20260421T140821
CREATED:20250529T004007Z
LAST-MODIFIED:20250619T173423Z
UID:10000184-1752773400-1752782400@oregongarden.org
SUMMARY:Summer Concert Series: Reverend Shaky and the Part Time Believers
DESCRIPTION:Celebrate the summer in style with The Oregon Garden’s Summer Concert Series! This music series takes place once a month from June through August\, and features a lineup of beloved local musicians as well as food and drinks. Even better\, your ticket includes after hours admission to The Oregon Garden\, a very special treat this time of year.\n\nJuly 17th • Reverend Shaky and the Part Time Believers\n\nReverend Shaky and The Part Time Believers is a Salem grown\, bluesy-rock-folk-funk and country-swing-alternative band playing originals and B-side covers. Composed of 5 principal members\, the band tailors set lists and sound to a venue’s unique needs\, occasionally drawing from the Willamette Valley’s pool of exceptional musicians for additional texture\, diversity\, and glamour.\n\nDoors at 5:30pm. Music from 6PM to 8PM.\nADMISSION\n13 and over: $10\n12 and under: Free\nGarden Members: $5*\n\n*please be prepared to show active membership card.\n\nClick HERE to Purchase Tickets \n\n\nOur Summer Concert Series is held outdoors on our Garden Green lawn. Come prepared for sunny weather as shade is limited! In the event of inclement weather\, we will move indoors.\n\nLimited sand chairs will be available to rent for $3 each. Guests are welcome to bring their own blankets and chairs. \nOutside food and drinks are allowed\, with the exception of alcoholic beverages. \nWell-behaved pets on leashes are welcome. \nParking is free.
URL:https://oregongarden.org/event/summer-concert-series-reverend-shaky/
LOCATION:Oregon Garden\, 879 W. Main St.\, Silverton\, OR\, 97381\, United States
CATEGORIES:Music on the Lawn
ATTACH;FMTTYPE=image/png:https://oregongarden.org/wp-content/uploads/2025/05/scs-reverend-shaky.png
END:VEVENT
END:VCALENDAR