BEGIN:VCALENDAR
VERSION:2.0
PRODID:-//The Oregon Garden - ECPv6.15.20//NONSGML v1.0//EN
CALSCALE:GREGORIAN
METHOD:PUBLISH
X-WR-CALNAME:The Oregon Garden
X-ORIGINAL-URL:https://oregongarden.org
X-WR-CALDESC:Events for The Oregon Garden
REFRESH-INTERVAL;VALUE=DURATION:PT1H
X-Robots-Tag:noindex
X-PUBLISHED-TTL:PT1H
BEGIN:VTIMEZONE
TZID:UTC
BEGIN:STANDARD
TZOFFSETFROM:+0000
TZOFFSETTO:+0000
TZNAME:UTC
DTSTART:20250101T000000
END:STANDARD
END:VTIMEZONE
BEGIN:VEVENT
DTSTART;VALUE=DATE:20260629
DTEND;VALUE=DATE:20260630
DTSTAMP:20260424T140340
CREATED:20260423T223018Z
LAST-MODIFIED:20260423T223053Z
UID:10000232-1782691200-1782777599@oregongarden.org
SUMMARY:History Day - 25th Anniversary Week
DESCRIPTION:Schedule coming soon!
URL:https://oregongarden.org/event/history-day-25th-anniversary-week/
LOCATION:Oregon Garden\, 879 W. Main St.\, Silverton\, OR\, 97381\, United States
CATEGORIES:25th Anniversary
ATTACH;FMTTYPE=image/png:https://oregongarden.org/wp-content/uploads/2025/10/25th-anniversary-history-day-website-photo-1.png
END:VEVENT
BEGIN:VEVENT
DTSTART;VALUE=DATE:20260630
DTEND;VALUE=DATE:20260701
DTSTAMP:20260424T140340
CREATED:20260423T223230Z
LAST-MODIFIED:20260423T223240Z
UID:10000233-1782777600-1782863999@oregongarden.org
SUMMARY:Education & Ecology Day - 25th Anniversary Week
DESCRIPTION:Schedule coming soon!
URL:https://oregongarden.org/event/education-ecology-day-25th-anniversary/
LOCATION:Oregon Garden\, 879 W. Main St.\, Silverton\, OR\, 97381\, United States
CATEGORIES:25th Anniversary
ATTACH;FMTTYPE=image/png:https://oregongarden.org/wp-content/uploads/2025/10/25th-anniversary-history-day-website-photo-2.png
END:VEVENT
BEGIN:VEVENT
DTSTART;VALUE=DATE:20260701
DTEND;VALUE=DATE:20260702
DTSTAMP:20260424T140340
CREATED:20260421T212809Z
LAST-MODIFIED:20260423T224251Z
UID:10000234-1782864000-1782950399@oregongarden.org
SUMMARY:Community Day - 25th Anniversary Week
DESCRIPTION:Schedule coming soon!
URL:https://oregongarden.org/event/community-volunteer-day-25th-anniversary/
LOCATION:Oregon Garden\, 879 W. Main St.\, Silverton\, OR\, 97381\, United States
CATEGORIES:25th Anniversary
ATTACH;FMTTYPE=image/png:https://oregongarden.org/wp-content/uploads/2026/04/25th-anniversary-history-day-website-photo-.png
END:VEVENT
BEGIN:VEVENT
DTSTART;VALUE=DATE:20260702
DTEND;VALUE=DATE:20260703
DTSTAMP:20260424T140340
CREATED:20260423T224442Z
LAST-MODIFIED:20260423T224442Z
UID:10000235-1782950400-1783036799@oregongarden.org
SUMMARY:Family Day - 25th Anniversary Week
DESCRIPTION:Schedule coming soon!
URL:https://oregongarden.org/event/family-day-25th-anniversary-week/
LOCATION:Oregon Garden\, 879 W. Main St.\, Silverton\, OR\, 97381\, United States
CATEGORIES:25th Anniversary
ATTACH;FMTTYPE=image/png:https://oregongarden.org/wp-content/uploads/2026/04/25th-anniversary-history-day-website-photo-4.png
END:VEVENT
END:VCALENDAR