BEGIN:VCALENDAR
VERSION:2.0
PRODID:-//The Oregon Garden - ECPv6.15.20//NONSGML v1.0//EN
CALSCALE:GREGORIAN
METHOD:PUBLISH
X-WR-CALNAME:The Oregon Garden
X-ORIGINAL-URL:https://oregongarden.org
X-WR-CALDESC:Events for The Oregon Garden
REFRESH-INTERVAL;VALUE=DURATION:PT1H
X-Robots-Tag:noindex
X-PUBLISHED-TTL:PT1H
BEGIN:VTIMEZONE
TZID:UTC
BEGIN:STANDARD
TZOFFSETFROM:+0000
TZOFFSETTO:+0000
TZNAME:UTC
DTSTART:20250101T000000
END:STANDARD
END:VTIMEZONE
BEGIN:VEVENT
DTSTART;VALUE=DATE:20260702
DTEND;VALUE=DATE:20260703
DTSTAMP:20260425T185015
CREATED:20260423T224442Z
LAST-MODIFIED:20260423T224442Z
UID:10000235-1782950400-1783036799@oregongarden.org
SUMMARY:Family Day - 25th Anniversary Week
DESCRIPTION:Schedule coming soon!
URL:https://oregongarden.org/event/family-day-25th-anniversary-week/
LOCATION:Oregon Garden\, 879 W. Main St.\, Silverton\, OR\, 97381\, United States
CATEGORIES:25th Anniversary
ATTACH;FMTTYPE=image/png:https://oregongarden.org/wp-content/uploads/2026/04/25th-anniversary-history-day-website-photo-4.png
END:VEVENT
BEGIN:VEVENT
DTSTART;VALUE=DATE:20260703
DTEND;VALUE=DATE:20260704
DTSTAMP:20260425T185015
CREATED:20260423T225258Z
LAST-MODIFIED:20260423T225340Z
UID:10000236-1783036800-1783123199@oregongarden.org
SUMMARY:July 3rd - 25th Anniversary Week
DESCRIPTION:Schedule and tickets coming soon!
URL:https://oregongarden.org/event/july-3rd-25th-anniversary-week/
LOCATION:Oregon Garden\, 879 W. Main St.\, Silverton\, OR\, 97381\, United States
ATTACH;FMTTYPE=image/png:https://oregongarden.org/wp-content/uploads/2026/04/july-3rd-event-cover-photo.png
END:VEVENT
BEGIN:VEVENT
DTSTART;TZID=UTC:20260726T190000
DTEND;TZID=UTC:20260726T213000
DTSTAMP:20260425T185015
CREATED:20251031T201724Z
LAST-MODIFIED:20251031T201724Z
UID:10000230-1785092400-1785101400@oregongarden.org
SUMMARY:Sunset Sundays
DESCRIPTION:Sunset Sundays at The Oregon Garden\nExperience the magic of golden hour in the Garden. \nJoin us for Sunset Sundays\, an exclusive after-hours series at The Oregon Garden featuring live music\, local flavors\, and breathtaking views. Across four select evenings in 2026\, just 50 guests per night will enjoy an intimate and unforgettable experience surrounded by the natural beauty of the Garden at dusk. \nEach Sunset Sunday will feature: \n\nLive local music to set the perfect mood\nPartner breweries and wineries offering complimentary tastings and beverages for purchase\nDelicious bites from a featured local food vendor or curated charcuterie cart.\nPrivate access to the Garden after hours\, when the pathways glow and the blooms are bathed in sunset light\n\nEvent Dates for 2026:🌿 Sunday\, April 26🌸 Sunday\, May 31🌼 Sunday\, July 26🍂 Sunday\, August 30 \nEvent times will vary slightly with sunset\, typically between 6:30–9:30pm. \nTickets: \nTickets will be available soon! \n\n$20 for Oregon Garden Members\n$25 for Non-Members\nEach ticket includes one complimentary drink ticket. Additional beverages available for purchase.\n\nCome unwind\, sip\, and savor the beauty of an Oregon evening in bloom.
URL:https://oregongarden.org/event/sunset-sundays-3/
LOCATION:Oregon Garden\, 879 W. Main St.\, Silverton\, OR\, 97381\, United States
CATEGORIES:Sunset Sundays
ATTACH;FMTTYPE=image/png:https://oregongarden.org/wp-content/uploads/2025/10/copy-of-winter-wellness-fair-fb-event-cover-design-1.png
END:VEVENT
BEGIN:VEVENT
DTSTART;TZID=UTC:20260830T183000
DTEND;TZID=UTC:20260830T213000
DTSTAMP:20260425T185015
CREATED:20251031T201909Z
LAST-MODIFIED:20260415T183259Z
UID:10000231-1788114600-1788125400@oregongarden.org
SUMMARY:Sunset Sundays
DESCRIPTION:Sunset Sundays at The Oregon Garden\nExperience the magic of golden hour in the Garden. Join us for Sunset Sundays\, an exclusive after-hours series at The Oregon Garden featuring live music\, local flavors\, and breathtaking views. Across four select evenings in 2026\, just 50 guests per night will enjoy an intimate and unforgettable experience surrounded by the natural beauty of the Garden at dusk. \nEach Sunset Sunday will feature: \n\nLive local music to set the perfect mood\nPartner breweries and wineries offering complimentary tastings and beverages for purchase\nDelicious bites from a featured local food vendor or curated charcuterie cart.\nPrivate access to the Garden after hours\, when the pathways glow and the blooms are bathed in sunset light\n\nEvent Dates for 2026:🌿 Sunday\, April 26🌸 Sunday\, May 31🌼 Sunday\, July 26🍂 Sunday\, August 30 \nEvent times will vary slightly with sunset\, typically between 6:30–9:30pm. \nTickets: \nPURCHASE TICKETS HERE!\n\n$20 for Oregon Garden Members\n$25 for Non-Members\nEach ticket includes one complimentary drink ticket. Additional beverages available for purchase.\n\nCome unwind\, sip\, and savor the beauty of an Oregon evening in bloom.
URL:https://oregongarden.org/event/sunset-sundays-4/
LOCATION:Oregon Garden\, 879 W. Main St.\, Silverton\, OR\, 97381\, United States
CATEGORIES:Sunset Sundays
ATTACH;FMTTYPE=image/png:https://oregongarden.org/wp-content/uploads/2025/10/copy-of-winter-wellness-fair-fb-event-cover-design-1.png
END:VEVENT
BEGIN:VEVENT
DTSTART;TZID=UTC:20260919T110000
DTEND;TZID=UTC:20260919T110000
DTSTAMP:20260425T185015
CREATED:20260423T200047Z
LAST-MODIFIED:20260423T200047Z
UID:10000285-1789815600-1789815600@oregongarden.org
SUMMARY:Garden University: Haiku and Nature
DESCRIPTION:Natalie DaSilva\, a Certified Oregon Naturalist with a lifelong interest in haiku\, is coming to The Oregon Garden to guide you through writing a fall-inspired haiku\, using nature and your surroundings as your inspiration – there is no experience needed\, beginners are welcome! \nThe Oregon Garden in the fall is an ideal place to explore the connection between traditional Japanese Haiku poetry and the wonders of nature! Explore our Garden and the many different species of trees that are within that are transitioning into the Fall season. In this workshop\, participants will learn about the centuries-old tradition of connecting with nature through a short and simple form of poetry. Natalie will be sharing her own haiku poems and nature photos as a part of this workshop\, and will also guide participants through trying their own hand at writing haiku. \nPens & paper will be provided. \n__ \nLimited spaces available! \nClick HERE to Purchase Tickets \nMember: $25 | General: $35 \nThe purchase of a ticket includes Garden admission! Before or after the workshop\, enjoy a walk around the Garden and take your inspiration from nature. \n __ \nThe Oregon Garden’s Garden University program offers ongoing education opportunities on topics in alignment with the Garden’s mission\, such as pruning\, beekeeping\, cooking\, floristry and more. Oregon Garden members receive free\, or discounted\, admission to Garden University. Visit www.oregongarden.org/garden-university for upcoming Garden University opportunities.
URL:https://oregongarden.org/event/garden-university-haiku-and-nature-2/
LOCATION:Oregon Garden\, 879 W. Main St.\, Silverton\, OR\, 97381\, United States
CATEGORIES:Garden University
ATTACH;FMTTYPE=image/png:https://oregongarden.org/wp-content/uploads/2026/04/haiku-nature-fall-garden-university.png
END:VEVENT
END:VCALENDAR